BEGIN:VCALENDAR
VERSION:2.0
PRODID:-//eventon.com NONSGML v1.0//EN
BEGIN:VEVENT
UID:69e73a0b29426
DTSTAMP:20260421T094915
DTSTART:20241125
DTEND:20241125
TZID:Europe/Lisbon
LOCATION:
SUMMARY:Pagamento de IVA (trimestral)
DESCRIPTION: Pagamento do Imposto sobre o Valor Acrescentado\,  correspondente aoimposto apurado na declaração respeitante ao 3.º trimestre\,  pelos sujeitospassivos abrangidos pela periodicidade trimestral do regime normal.\nhttps://serro-andrade.com/pt/events/pagamento-de-iva-trimestral-2/
URL:https://serro-andrade.com/pt/events/pagamento-de-iva-trimestral-2/
END:VEVENT
END:VCALENDAR