BEGIN:VCALENDAR
VERSION:2.0
PRODID:-//eventon.com NONSGML v1.0//EN
BEGIN:VEVENT
UID:69e732657f7bf
DTSTAMP:20260421T091637
DTSTART:20241021
DTEND:20241021
TZID:Europe/Lisbon
LOCATION:
SUMMARY:Contribuições CAV
DESCRIPTION: Entrega da contribuição audiovisual (CAV)\,  cobrada nas faturas defornecimento de energia elétrica emitidas no mês anterior.\nhttps://serro-andrade.com/pt/events/contribuicoes-cav-6/
URL:https://serro-andrade.com/pt/events/contribuicoes-cav-6/
END:VEVENT
END:VCALENDAR