BEGIN:VCALENDAR
VERSION:2.0
PRODID:-//eventon.com NONSGML v1.0//EN
BEGIN:VEVENT
UID:69e7339d4161d
DTSTAMP:20260421T092149
DTSTART:20240715T172400Z
DTEND:20240715T172400Z
TZID:Europe/Lisbon
LOCATION:
SUMMARY:IRC - Modelo 22
DESCRIPTION: Envio da Declaração periódica de rendimentos Modelo 22\,  por transmissãoeletrónica de dados\,  pelas entidades sujeitas a IRC\,  cujo período de tributaçãoseja coincidente com o ano civil.\nhttps://serro-andrade.com/pt/events/irc-modelo-22/
URL:https://serro-andrade.com/pt/events/irc-modelo-22/
END:VEVENT
END:VCALENDAR