BEGIN:VCALENDAR
VERSION:2.0
PRODID:-//eventon.com NONSGML v1.0//EN
BEGIN:VEVENT
UID:69e7079501115
DTSTAMP:20260421T061357
DTSTART:20240531
DTEND:20240531
TZID:Europe/Lisbon
LOCATION:
SUMMARY:IVA
DESCRIPTION: Envio\,  por transmissão eletrónica de dados\,  do pedido de restituição do IVApelos sujeitos passivos do imposto suportado\,  no próprio ano civil\,  noutroEstado Membro e do IVA suportado em Portugal por sujeitos passivos de paísterceiro\,  quando o montante a reembolsar for superior a € 400 e respeitantea um período não inferior[..]\nhttps://serro-andrade.com/pt/events/iva-4/
URL:https://serro-andrade.com/pt/events/iva-4/
END:VEVENT
END:VCALENDAR